BEGIN:VCALENDAR
VERSION:2.0
PRODID:-//pretix//FSMPI_Tickets//
BEGIN:VTIMEZONE
TZID:Europe/Berlin
BEGIN:STANDARD
DTSTART:20001029T040000
RRULE:FREQ=YEARLY;BYDAY=-1SU;BYMONTH=10
TZNAME:CET
TZOFFSETFROM:+0200
TZOFFSETTO:+0100
END:STANDARD
BEGIN:DAYLIGHT
DTSTART:20000326T030000
RRULE:FREQ=YEARLY;BYDAY=-1SU;BYMONTH=3
TZNAME:CEST
TZOFFSETFROM:+0100
TZOFFSETTO:+0200
END:DAYLIGHT
END:VTIMEZONE
BEGIN:VEVENT
UID:pretix-fsmpi-office-wise2025-3062@tickets.fsmpi.rwth-aachen.de
DTSTART;TZID=Europe/Berlin:20260122T090000
DTEND;TZID=Europe/Berlin:20260122T143700
DESCRIPTION:Tickets: https://tickets.fsmpi.rwth-aachen.de/fsmpi/office-wise
 2025/3062/\nVeranstalter: Fachschaft Mathematik/Physik/Informatik
DTSTAMP:20260422T163858Z
LOCATION:50.7691\, 6.0858
SUMMARY:Aachen: Entschärfung eines Bombenfundes
END:VEVENT
END:VCALENDAR
